BEGIN:VCALENDAR
VERSION:2.0
PRODID:-//Cabaret Les Insolites - ECPv5.11.0//NONSGML v1.0//EN
CALSCALE:GREGORIAN
METHOD:PUBLISH
X-WR-CALNAME:Cabaret Les Insolites
X-ORIGINAL-URL:https://www.les-insolites.fr
X-WR-CALDESC:évènements pour Cabaret Les Insolites
BEGIN:VTIMEZONE
TZID:Europe/Paris
BEGIN:DAYLIGHT
TZOFFSETFROM:+0100
TZOFFSETTO:+0200
TZNAME:CEST
DTSTART:20240331T010000
END:DAYLIGHT
BEGIN:STANDARD
TZOFFSETFROM:+0200
TZOFFSETTO:+0100
TZNAME:CET
DTSTART:20241027T010000
END:STANDARD
END:VTIMEZONE
BEGIN:VEVENT
DTSTART;TZID=Europe/Paris:20240701T000000
DTEND;TZID=Europe/Paris:20240701T235900
DTSTAMP:20260424T150639
CREATED:20240313T103738Z
LAST-MODIFIED:20240622T175803Z
UID:29331-1719792000-1719878340@www.les-insolites.fr
SUMMARY:FESTIVAL St Georges en FOLIE 2024
DESCRIPTION:Le célèbre Jules NAVET est de retour\, après 5 années d’absence\, il reprend son service à la brigade de St Georges sur l’Aa\, pour le meilleur et pour le rire!\nL’histoire : « Une mystérieuse secte sévit la nuit dans l’église de St Georges sur\nl’Aa. Mais qui se cache derrière ces masques? Le préfet décide alors de faire appel au célèbre détective Jules Navet. »\nDes personnages haut en couleur plus drôles les uns que les autres et un Jules Navet plus loufoque que les années précédentes.\nUne comédie déambulatoire hilarante d’une heure 45 !!!\nAvec une mise en scène spectaculaire grandeur nature rassemblant vingt comédiens d’exception dans un décor grandiose qui transportera les spectateurs au cœur de l’action\, leur permettant de vivre l’enquête aux côtés d’ Emmanuel Valloy et Jules Navet.\nPréparez-vous à une comédie hors du commun\, où chaque recoin de St Georges sur l’Aa recèle humour\, mystère et surprises.\nNe manquez pas le retour triomphal de Jules Navet pour une soirée inoubliable!\n8€ l’entrée-gratuit pour les -10 ans
URL:https://www.les-insolites.fr/evenement/festival-st-georges-en-folie-2024/
LOCATION:Saint Georges sur l’Aa\, place de la mairie\, SAINT GEORGES SUR L AA\, 59820\, France
CATEGORIES:BILLETTERIE,pièce de théâtre,production,tout public
ATTACH;FMTTYPE=image/jpeg:https://www.les-insolites.fr/wp-content/uploads/2024/03/le-retour-de-Jules-NAVET-FESTIVAL-ST-GEORGES.jpg
ORGANIZER;CN="Emmanuel%20Valloy":MAILTO:contact@les-insolites.fr
END:VEVENT
END:VCALENDAR