BEGIN:VCALENDAR
VERSION:2.0
PRODID:-//Cabaret Les Insolites - ECPv5.11.0//NONSGML v1.0//EN
CALSCALE:GREGORIAN
METHOD:PUBLISH
X-WR-CALNAME:Cabaret Les Insolites
X-ORIGINAL-URL:https://www.les-insolites.fr
X-WR-CALDESC:évènements pour Cabaret Les Insolites
BEGIN:VTIMEZONE
TZID:Europe/Paris
BEGIN:DAYLIGHT
TZOFFSETFROM:+0100
TZOFFSETTO:+0200
TZNAME:CEST
DTSTART:20230326T010000
END:DAYLIGHT
BEGIN:STANDARD
TZOFFSETFROM:+0200
TZOFFSETTO:+0100
TZNAME:CET
DTSTART:20231029T010000
END:STANDARD
END:VTIMEZONE
BEGIN:VEVENT
DTSTART;TZID=Europe/Paris:20231126T123000
DTEND;TZID=Europe/Paris:20231126T123000
DTSTAMP:20260422T111906
CREATED:20230523T064833Z
LAST-MODIFIED:20230523T064833Z
UID:22417-1701001800-1701001800@www.les-insolites.fr
SUMMARY:NOUVEAU Comédie musicale "JOSEPHINE"
DESCRIPTION:C’est l’évènement pour les 30 ans des Insolites! Cette comédie musicale en l’honneur de Joséphine Baker vous permettra de mieux connaître cette artiste qui a été admise au Panthéon le 30 Novembre 2021 .\n\nEmmanuel Valloy propose une rétrospective de la vie de Joséphine Baker\, figure emblématique du show biz et de la Résistance Française. un spectacle époustouflant tout en musique et comédie. dans le rôle principal Lina.\n\nMenu Baker \ncocktail de bienvenue \nterrine maison \ndemi coquelet au miel \ndessert-café boissons comprises \nMerci de présenter votre billet imprimé ou numérique à l’entrée 
URL:https://www.les-insolites.fr/evenement/nouveau-comedie-musicale-josephine/
LOCATION:Cabaret Les Insolites\, 808 route de gravelines\, Saint-Georges-Sur-L'Aa\, 59820\, France
CATEGORIES:Au cabaret,comédie musicale,tout public
ATTACH;FMTTYPE=image/jpeg:https://www.les-insolites.fr/wp-content/uploads/2023/05/affiches-web-3.jpg
ORGANIZER;CN="Emmanuel%20Valloy":MAILTO:contact@les-insolites.fr
END:VEVENT
END:VCALENDAR