BEGIN:VCALENDAR
VERSION:2.0
PRODID:-//Cabaret Les Insolites - ECPv5.11.0//NONSGML v1.0//EN
CALSCALE:GREGORIAN
METHOD:PUBLISH
X-WR-CALNAME:Cabaret Les Insolites
X-ORIGINAL-URL:https://www.les-insolites.fr
X-WR-CALDESC:évènements pour Cabaret Les Insolites
BEGIN:VTIMEZONE
TZID:Europe/Paris
BEGIN:DAYLIGHT
TZOFFSETFROM:+0100
TZOFFSETTO:+0200
TZNAME:CEST
DTSTART:20250330T010000
END:DAYLIGHT
BEGIN:STANDARD
TZOFFSETFROM:+0200
TZOFFSETTO:+0100
TZNAME:CET
DTSTART:20251026T010000
END:STANDARD
END:VTIMEZONE
BEGIN:VEVENT
DTSTART;TZID=Europe/Paris:20250222T193000
DTEND;TZID=Europe/Paris:20250222T193000
DTSTAMP:20260420T230647
CREATED:20241105T180825Z
LAST-MODIFIED:20241127T164500Z
UID:35008-1740252600-1740252600@www.les-insolites.fr
SUMMARY:Nouvelle comédie! Au frais de la princesse
DESCRIPTION:Venez vous amuser avec cette nouvelle comédie d’Emmanuel VALLOY.\n » Lorsque le Maire du village (alias Emmanuel VALLOY) confond un cambrioleur (alias Steeve DOOM) avec l’arrivée du nouveau prêtre de la Paroisse\, ce dernier n’a le choix que d’endosser la soutane. Grâce à ce subterfuge\, il va vivre « Au frais de la Princesse »! »\nDeux heures de rires garantis!\nMENU \n\ncocktail de bienvenue et sa planche porcine \ncivet de lapin  et son accompagnement \ndessert-café boissons comprises \nEnvie de faire un cadeau à vos proches? Tout est possible! \nIl vous suffit de rajouter dans votre panier la carte cadeau. Celle-ci est gratuite\, vous ne payez que les frais de port! Vous la recevrez dans votre boîte aux lettres!\nSi vous préférez la retirer au cabaret\, passez chez nous avec votre commande\, elle vous sera remise gratuitement! 
URL:https://www.les-insolites.fr/evenement/nouvelle-comedie-au-frais-de-la-princesse/
LOCATION:Cabaret Les Insolites\, 808 route de gravelines\, Saint-Georges-Sur-L'Aa\, 59820\, France
CATEGORIES:Au cabaret,Humour,pièce de théâtre,tout public
ATTACH;FMTTYPE=image/jpeg:https://www.les-insolites.fr/wp-content/uploads/2024/04/essai-final-1.jpg
ORGANIZER;CN="Emmanuel%20Valloy":MAILTO:contact@les-insolites.fr
END:VEVENT
END:VCALENDAR