BEGIN:VCALENDAR
VERSION:2.0
PRODID:-//Cabaret Les Insolites - ECPv5.11.0//NONSGML v1.0//EN
CALSCALE:GREGORIAN
METHOD:PUBLISH
X-WR-CALNAME:Cabaret Les Insolites
X-ORIGINAL-URL:https://www.les-insolites.fr
X-WR-CALDESC:évènements pour Cabaret Les Insolites
BEGIN:VTIMEZONE
TZID:Europe/Paris
BEGIN:DAYLIGHT
TZOFFSETFROM:+0100
TZOFFSETTO:+0200
TZNAME:CEST
DTSTART:20260329T010000
END:DAYLIGHT
BEGIN:STANDARD
TZOFFSETFROM:+0200
TZOFFSETTO:+0100
TZNAME:CET
DTSTART:20261025T010000
END:STANDARD
END:VTIMEZONE
BEGIN:VEVENT
DTSTART;TZID=Europe/Paris:20261025T123000
DTEND;TZID=Europe/Paris:20261025T123000
DTSTAMP:20260424T075633
CREATED:20260423T155318Z
LAST-MODIFIED:20260423T155318Z
UID:45047-1792931400-1792931400@www.les-insolites.fr
SUMMARY:Nouvelle comédie "CON-DRIAQUE"
DESCRIPTION:Emmanuel Valloy présente sa 53ème pièce ! Le titre annonce la couleur : ça va être piquant\, original et surtout hilarant!\n\nL’histoire ? Secret défense (pour l’instant !). La promesse ? 1h30 de rires garantis sans effets secondaires.\n\nNe soyez pas malades\, soyez au rendez-vous ! Réservez vos places avant qu’il ne soit trop tard.\n\n\nMENU \n\n\nCocktail de bienvenue et sa planche \n\n\nCôte de porc de chez Poupart et son accompagnement \n\n\ndessert-café-boissons comprises \n\n\nPour devenir ADHERENT de notre cabaret et bénéficier de réduction à chaque repas spectacle\, contactez-nous au 03.28.23.08.81 \nEnvie de faire un cadeau à vos proches? Tout est possible! \nIl vous suffit de rajouter dans votre panier la carte cadeau (dédiée à ce repas spectacle). Celle-ci est gratuite\, vous ne payez que les frais de port! Vous la recevrez dans votre boîte aux lettres!\nSi vous préférez la retirer au cabaret\, passez chez nous avec votre commande\, elle vous sera remise gratuitement! 
URL:https://www.les-insolites.fr/evenement/nouvelle-comedie-con-driaque/
LOCATION:Cabaret Les Insolites\, 808 route de gravelines\, Saint-Georges-Sur-L'Aa\, 59820\, France
CATEGORIES:Au cabaret,Humour,pièce de théâtre,tout public
ATTACH;FMTTYPE=image/jpeg:https://www.les-insolites.fr/wp-content/uploads/2026/04/CON-DRIAQUE-1.jpg
ORGANIZER;CN="Emmanuel%20Valloy":MAILTO:contact@les-insolites.fr
END:VEVENT
END:VCALENDAR