BEGIN:VCALENDAR
VERSION:2.0
PRODID:-//Cabaret Les Insolites - ECPv5.11.0//NONSGML v1.0//EN
CALSCALE:GREGORIAN
METHOD:PUBLISH
X-WR-CALNAME:Cabaret Les Insolites
X-ORIGINAL-URL:https://www.les-insolites.fr
X-WR-CALDESC:évènements pour Cabaret Les Insolites
BEGIN:VTIMEZONE
TZID:Europe/Paris
BEGIN:DAYLIGHT
TZOFFSETFROM:+0100
TZOFFSETTO:+0200
TZNAME:CEST
DTSTART:20240331T010000
END:DAYLIGHT
BEGIN:STANDARD
TZOFFSETFROM:+0200
TZOFFSETTO:+0100
TZNAME:CET
DTSTART:20241027T010000
END:STANDARD
END:VTIMEZONE
BEGIN:VEVENT
DTSTART;TZID=Europe/Paris:20241214T123000
DTEND;TZID=Europe/Paris:20241214T123000
DTSTAMP:20260420T223457
CREATED:20240924T125944Z
LAST-MODIFIED:20241030T131335Z
UID:34494-1734179400-1734179400@www.les-insolites.fr
SUMMARY:SARDOUMANIA
DESCRIPTION:Vous l’avez réclamé\, il revient avec ses musiciens et de nouvelles surprises pour interpréter la suite de “En Chantant” dédié à Michel SARDOU. Tous les tubes qu’Emmanuel  n’a pas encore chanté lors du premier show (Africa Dieu\, Le surveillant général…) seront réorchestrés à la sauce Valloy. Succès garanti en perspective.\nA ne surtout pas manquer!\n\n\n10 artistes sur scène!\nMENU  \n*** \nCocktail de bienvenue \nBouchée d’écrevisses \nSuprême de pintade à la normande \nDessert-café-boissons comprises
URL:https://www.les-insolites.fr/evenement/sardoumania-2/
LOCATION:Cabaret Les Insolites\, 808 route de gravelines\, Saint-Georges-Sur-L'Aa\, 59820\, France
CATEGORIES:Au cabaret,Chanson,tout public
ATTACH;FMTTYPE=image/jpeg:https://www.les-insolites.fr/wp-content/uploads/2023/11/AFFICHE-SARDOUMANIA-RESEAUX.jpg
ORGANIZER;CN="Emmanuel%20Valloy":MAILTO:contact@les-insolites.fr
END:VEVENT
END:VCALENDAR