BEGIN:VCALENDAR
VERSION:2.0
PRODID:-//Cabaret Les Insolites - ECPv5.11.0//NONSGML v1.0//EN
CALSCALE:GREGORIAN
METHOD:PUBLISH
X-WR-CALNAME:Cabaret Les Insolites
X-ORIGINAL-URL:https://www.les-insolites.fr
X-WR-CALDESC:évènements pour Cabaret Les Insolites
BEGIN:VTIMEZONE
TZID:Europe/Paris
BEGIN:DAYLIGHT
TZOFFSETFROM:+0100
TZOFFSETTO:+0200
TZNAME:CEST
DTSTART:20260329T010000
END:DAYLIGHT
BEGIN:STANDARD
TZOFFSETFROM:+0200
TZOFFSETTO:+0100
TZNAME:CET
DTSTART:20261025T010000
END:STANDARD
END:VTIMEZONE
BEGIN:VEVENT
DTSTART;TZID=Europe/Paris:20261017T193000
DTEND;TZID=Europe/Paris:20261017T193000
DTSTAMP:20260424T044527
CREATED:20260423T155232Z
LAST-MODIFIED:20260423T155232Z
UID:44972-1792265400-1792265400@www.les-insolites.fr
SUMMARY:Soirée Irlandaise
DESCRIPTION:Le Théâtre Les Insolites vous invite à une soirée aux couleurs de l’Irlande !\n\nPlongez dans une ambiance chaleureuse et festive\, entre musiques entraînantes\, rythmes celtiques et bonne humeur. Une parenthèse dépaysante où convivialité et esprit de fête seront au rendez-vous.\n\nPréparez-vous à voyager… sans quitter votre siège !\n\n\nMENU \n\n\nCocktail de bienvenue \n\n\nSaumon fumé et ses copeaux de parmesan \n\n\nCôte de porc de la maison Poupart et sa garniture \n\n\ndessert-café-boissons comprises \nPour devenir ADHERENT de notre cabaret et bénéficier de réduction à chaque repas spectacle\, contactez-nous au 03.28.23.08.81 \n \nEnvie de faire un cadeau à vos proches? Tout est possible! \nIl vous suffit de rajouter dans votre panier la carte cadeau (dédiée à ce repas spectacle). Celle-ci est gratuite\, vous ne payez que les frais de port! Vous la recevrez dans votre boîte aux lettres!\nSi vous préférez la retirer au cabaret\, passez chez nous avec votre commande\, elle vous sera remise gratuitement! 
URL:https://www.les-insolites.fr/evenement/soiree-irlandaise-2/
LOCATION:Cabaret Les Insolites\, 808 route de gravelines\, Saint-Georges-Sur-L'Aa\, 59820\, France
CATEGORIES:Au cabaret,Chanson,Dansant,tout public
ATTACH;FMTTYPE=image/jpeg:https://www.les-insolites.fr/wp-content/uploads/2026/04/SOIREE-IRLANDAISE.jpg
ORGANIZER;CN="Emmanuel%20Valloy":MAILTO:contact@les-insolites.fr
END:VEVENT
END:VCALENDAR