BEGIN:VCALENDAR
VERSION:2.0
PRODID:-//Cabaret Les Insolites - ECPv5.11.0//NONSGML v1.0//EN
CALSCALE:GREGORIAN
METHOD:PUBLISH
X-WR-CALNAME:Cabaret Les Insolites
X-ORIGINAL-URL:https://www.les-insolites.fr
X-WR-CALDESC:évènements pour Cabaret Les Insolites
BEGIN:VTIMEZONE
TZID:Europe/Paris
BEGIN:DAYLIGHT
TZOFFSETFROM:+0100
TZOFFSETTO:+0200
TZNAME:CEST
DTSTART:20250330T010000
END:DAYLIGHT
BEGIN:STANDARD
TZOFFSETFROM:+0200
TZOFFSETTO:+0100
TZNAME:CET
DTSTART:20251026T010000
END:STANDARD
END:VTIMEZONE
BEGIN:VEVENT
DTSTART;TZID=Europe/Paris:20251011T193000
DTEND;TZID=Europe/Paris:20251011T193000
DTSTAMP:20260422T064117
CREATED:20250304T101550Z
LAST-MODIFIED:20250304T101550Z
UID:36394-1760211000-1760211000@www.les-insolites.fr
SUMMARY:SARDOUMANIA
DESCRIPTION:Vous l’avez réclamé\, Emmanuel Valloy revient avec ses musiciens . Tous les tubes qu’il n’a pas encore chanté lors du premier show (Africa Dieu\, Le surveillant général…) seront réorchestrés à la sauce Valloy. \nSuccès garanti en perspective. A ne surtout pas manquer!\nMENU \nCocktail de bienvenue \nTerrine de canard à l’abricot maison \nPaupiette à la provençale et ses petits légumes \ndessert-café-boissons comprises
URL:https://www.les-insolites.fr/evenement/sardoumania-3/
LOCATION:Cabaret Les Insolites\, 808 route de gravelines\, Saint-Georges-Sur-L'Aa\, 59820\, France
CATEGORIES:Au cabaret,Chanson,tout public
ATTACH;FMTTYPE=image/jpeg:https://www.les-insolites.fr/wp-content/uploads/2023/11/AFFICHE-SARDOUMANIA-RESEAUX.jpg
ORGANIZER;CN="Emmanuel%20Valloy":MAILTO:contact@les-insolites.fr
END:VEVENT
END:VCALENDAR