BEGIN:VCALENDAR
VERSION:2.0
PRODID:-//Cabaret Les Insolites - ECPv5.11.0//NONSGML v1.0//EN
CALSCALE:GREGORIAN
METHOD:PUBLISH
X-WR-CALNAME:Cabaret Les Insolites
X-ORIGINAL-URL:https://www.les-insolites.fr
X-WR-CALDESC:évènements pour Cabaret Les Insolites
BEGIN:VTIMEZONE
TZID:Europe/Paris
BEGIN:DAYLIGHT
TZOFFSETFROM:+0100
TZOFFSETTO:+0200
TZNAME:CEST
DTSTART:20250330T010000
END:DAYLIGHT
BEGIN:STANDARD
TZOFFSETFROM:+0200
TZOFFSETTO:+0100
TZNAME:CET
DTSTART:20251026T010000
END:STANDARD
END:VTIMEZONE
BEGIN:VEVENT
DTSTART;TZID=Europe/Paris:20251018T193000
DTEND;TZID=Europe/Paris:20251018T193000
DTSTAMP:20260422T063913
CREATED:20250304T101617Z
LAST-MODIFIED:20250304T101617Z
UID:36407-1760815800-1760815800@www.les-insolites.fr
SUMMARY:Soirée IRLANDAISE
DESCRIPTION:  Que vous soignez amateurs de musique Folk\, passionnés de danse ou simplement curieux de découvrir l’âme irlandaise\, cette soirée promet un moment de partage inoubliable avec les HOT RATS qui font ici leur grand retour dans notre cabaret!\nRéservez vite et embarquer pour un voyage magique en terre celtique!\nMENU \nCocktail de bienvenue \nTarte au Maroilles MAISON \nCarbonade flamande et son accompagnement \ndessert-café-boissons comprises
URL:https://www.les-insolites.fr/evenement/soiree-irlandaise/
LOCATION:Cabaret Les Insolites\, 808 route de gravelines\, Saint-Georges-Sur-L'Aa\, 59820\, France
CATEGORIES:Au cabaret,Chanson,Dansant,tout public
ATTACH;FMTTYPE=image/jpeg:https://www.les-insolites.fr/wp-content/uploads/2025/02/IMG-20240818-WA0013.jpg
ORGANIZER;CN="Emmanuel%20Valloy":MAILTO:contact@les-insolites.fr
END:VEVENT
END:VCALENDAR