BEGIN:VCALENDAR
VERSION:2.0
PRODID:-//Cabaret Les Insolites - ECPv5.11.0//NONSGML v1.0//EN
CALSCALE:GREGORIAN
METHOD:PUBLISH
X-WR-CALNAME:Cabaret Les Insolites
X-ORIGINAL-URL:https://www.les-insolites.fr
X-WR-CALDESC:évènements pour Cabaret Les Insolites
BEGIN:VTIMEZONE
TZID:Europe/Paris
BEGIN:DAYLIGHT
TZOFFSETFROM:+0100
TZOFFSETTO:+0200
TZNAME:CEST
DTSTART:20250330T010000
END:DAYLIGHT
BEGIN:STANDARD
TZOFFSETFROM:+0200
TZOFFSETTO:+0100
TZNAME:CET
DTSTART:20251026T010000
END:STANDARD
END:VTIMEZONE
BEGIN:VEVENT
DTSTART;TZID=Europe/Paris:20251129T193000
DTEND;TZID=Europe/Paris:20251129T193000
DTSTAMP:20260422T044644
CREATED:20250304T101718Z
LAST-MODIFIED:20251125T151430Z
UID:36425-1764444600-1764444600@www.les-insolites.fr
SUMMARY:TINA FOREVER
DESCRIPTION:Plongez à nouveau dans l’univers légendaire de Tina Turner avec Lina\, une chanteuse au talent exceptionnel qui rend hommage à la reine du Rock avec une énergie électrisante. \nUn spectacle vibrant qui fera revivre la magie et l’émotion de cette icône inoubliable!\nSon dernier spectacle fut un énorme succès ! Ne le manquez pas cette-ci!\nMENU \nCocktail de bienvenue \nQuiche Lorraine maison \nRôti au pain d’épices et ses petits légumes \ndessert-café-boissons comprises
URL:https://www.les-insolites.fr/evenement/tina-forever/
LOCATION:Cabaret Les Insolites\, 808 route de gravelines\, Saint-Georges-Sur-L'Aa\, 59820\, France
CATEGORIES:Au cabaret,Chanson,tout public
ATTACH;FMTTYPE=image/png:https://www.les-insolites.fr/wp-content/uploads/2018/07/tampon-complet-2.png
ORGANIZER;CN="Emmanuel%20Valloy":MAILTO:contact@les-insolites.fr
END:VEVENT
END:VCALENDAR