BEGIN:VCALENDAR
VERSION:2.0
PRODID:-//Cabaret Les Insolites - ECPv5.11.0//NONSGML v1.0//EN
CALSCALE:GREGORIAN
METHOD:PUBLISH
X-WR-CALNAME:Cabaret Les Insolites
X-ORIGINAL-URL:https://www.les-insolites.fr
X-WR-CALDESC:évènements pour Cabaret Les Insolites
BEGIN:VTIMEZONE
TZID:Europe/Paris
BEGIN:DAYLIGHT
TZOFFSETFROM:+0100
TZOFFSETTO:+0200
TZNAME:CEST
DTSTART:20230326T010000
END:DAYLIGHT
BEGIN:STANDARD
TZOFFSETFROM:+0200
TZOFFSETTO:+0100
TZNAME:CET
DTSTART:20231029T010000
END:STANDARD
END:VTIMEZONE
BEGIN:VEVENT
DTSTART;TZID=Europe/Paris:20231021T193000
DTEND;TZID=Europe/Paris:20231021T193000
DTSTAMP:20260425T235441
CREATED:20230523T064607Z
LAST-MODIFIED:20230523T064607Z
UID:22387-1697916600-1697916600@www.les-insolites.fr
SUMMARY:Les vieilles canailles par Emmanuel VALLOY
DESCRIPTION:Après le triomphe de « Valloy chante Sardou »\, il revisite les « Vieilles Canailles » avec son superbe orchestre pour faire chanter la salle toute entière !\nVenez applaudir ce show extraordinaire et dynamique! Dutronc\, Mitchell et Johnny comme vous ne les avez jamais vu.\nIl les incarne comme personne !\nMenu \ncocktail de bienvenue \nbouchée d’écrevisses \nsuprême de pintade à la normande \ndessert-café-boissons comprises \nMerci de présenter votre billet numérique ou imprimé à l’entrée 
URL:https://www.les-insolites.fr/evenement/les-vieilles-canailles-par-emmanuel-valloy/
LOCATION:Cabaret Les Insolites\, 808 route de gravelines\, Saint-Georges-Sur-L'Aa\, 59820\, France
CATEGORIES:Au cabaret,Chanson,tout public
ATTACH;FMTTYPE=image/jpeg:https://www.les-insolites.fr/wp-content/uploads/2023/05/affiches-web-1.jpg
ORGANIZER;CN="Emmanuel%20Valloy":MAILTO:contact@les-insolites.fr
END:VEVENT
END:VCALENDAR