BEGIN:VCALENDAR
VERSION:2.0
PRODID:-//Cabaret Les Insolites - ECPv5.11.0//NONSGML v1.0//EN
CALSCALE:GREGORIAN
METHOD:PUBLISH
X-WR-CALNAME:Cabaret Les Insolites
X-ORIGINAL-URL:https://www.les-insolites.fr
X-WR-CALDESC:évènements pour Cabaret Les Insolites
BEGIN:VTIMEZONE
TZID:Europe/Paris
BEGIN:DAYLIGHT
TZOFFSETFROM:+0100
TZOFFSETTO:+0200
TZNAME:CEST
DTSTART:20240331T010000
END:DAYLIGHT
BEGIN:STANDARD
TZOFFSETFROM:+0200
TZOFFSETTO:+0100
TZNAME:CET
DTSTART:20241027T010000
END:STANDARD
END:VTIMEZONE
BEGIN:VEVENT
DTSTART;TZID=Europe/Paris:20240505T123000
DTEND;TZID=Europe/Paris:20240505T123000
DTSTAMP:20260425T122723
CREATED:20231116T161658Z
LAST-MODIFIED:20240417T090845Z
UID:26732-1714912200-1714912200@www.les-insolites.fr
SUMMARY:"La maladie d'Amour" by Valloy
DESCRIPTION:Vous l’avez réclamé\, il revient avec ses musiciens et de nouvelles surprises pour interpréter la suite de “En Chantant” dédié à Michel SARDOU. Tous les tubes qu’il n’a pas encore chanté lors du premier show (Africa Dieu\, Le surveillant général…) seront réorchestrés à la sauce Valloy. Succès garanti en perspective. \nA ne surtout pas manquer!\nMenu \ncocktail de bienvenue \nassiette périgourdine \ncaille farcie sauce champagne et ses légumes \ndessert-café-boissons comprises \nMerci de présenter votre billet imprimé ou numérique \nEnvie de faire un cadeau à vos proches? Tout est possible! \nIl vous suffit de rajouter dans votre panier la carte cadeau. Celle-ci est gratuite\, vous ne payez que les frais de port! Vous la recevrez dans votre boîte aux lettres!\n \nSi vous préférez la retirer au cabaret\, passez chez nous avec votre commande\, elle vous sera remise gratuitement! 
URL:https://www.les-insolites.fr/evenement/la-maladie-damour-by-valloy/
LOCATION:Cabaret Les Insolites\, 808 route de gravelines\, Saint-Georges-Sur-L'Aa\, 59820\, France
CATEGORIES:Au cabaret,Chanson,tout public
ATTACH;FMTTYPE=image/png:https://www.les-insolites.fr/wp-content/uploads/2022/02/chrome_2022-03-15_11-51-52.png
ORGANIZER;CN="Emmanuel%20Valloy":MAILTO:contact@les-insolites.fr
END:VEVENT
END:VCALENDAR