BEGIN:VCALENDAR
VERSION:2.0
PRODID:-//Cabaret Les Insolites - ECPv5.11.0//NONSGML v1.0//EN
CALSCALE:GREGORIAN
METHOD:PUBLISH
X-WR-CALNAME:Cabaret Les Insolites
X-ORIGINAL-URL:https://www.les-insolites.fr
X-WR-CALDESC:évènements pour Cabaret Les Insolites
BEGIN:VTIMEZONE
TZID:Europe/Paris
BEGIN:DAYLIGHT
TZOFFSETFROM:+0100
TZOFFSETTO:+0200
TZNAME:CEST
DTSTART:20240331T010000
END:DAYLIGHT
BEGIN:STANDARD
TZOFFSETFROM:+0200
TZOFFSETTO:+0100
TZNAME:CET
DTSTART:20241027T010000
END:STANDARD
END:VTIMEZONE
BEGIN:VEVENT
DTSTART;TZID=Europe/Paris:20241103T123000
DTEND;TZID=Europe/Paris:20241103T123000
DTSTAMP:20260425T223742
CREATED:20240417T093306Z
LAST-MODIFIED:20240917T125134Z
UID:31435-1730637000-1730637000@www.les-insolites.fr
SUMMARY:Au frais de la Princesse! NOUVELLE COMEDIE
DESCRIPTION:L’invitation est donc lancée : venez vous amuser et laissez-vous emporter par cette comédie nouvelle génération. Que vous soyez un inconditionnel des pièces d’Emmanuel VALLOY ou simplement à la recherche d’une journée divertissante\, cette création promet d’être un rendez-vous incontournable pour tous les amateurs de théâtre et d’humour. Préparez-vous à vivre une expérience théâtrale unique\, où le rire est roi et où l’ennui n’a pas sa place.\nVoici l’histoire :\n\n\n« Lorsque le Maire du village confond un cambrioleur avec l’arrivée du nouveau prêtre de la Paroisse\, ce dernier n’a le choix que d’endosser la soutane. Grâce à ce subterfuge\, il va vivre « Au frais de la Princesse! »\n« Deux heures de rires garantis!\nMENU \n*** \ncocktail de bienvenue \nTerrine de foie de volaille \nPièce de cochon fermier et sa pomme de terre Cambraisienne \ndessert-café-boissons comprises
URL:https://www.les-insolites.fr/evenement/au-frais-de-la-princesse-nouvelle-comedie/
LOCATION:Cabaret Les Insolites\, 808 route de gravelines\, Saint-Georges-Sur-L'Aa\, 59820\, France
CATEGORIES:Au cabaret,Humour,pièce de théâtre,tout public
ATTACH;FMTTYPE=image/png:https://www.les-insolites.fr/wp-content/uploads/2022/02/chrome_2022-03-15_11-51-52.png
ORGANIZER;CN="Emmanuel%20Valloy":MAILTO:contact@les-insolites.fr
END:VEVENT
END:VCALENDAR