BEGIN:VCALENDAR
VERSION:2.0
PRODID:-//Cabaret Les Insolites - ECPv5.11.0//NONSGML v1.0//EN
CALSCALE:GREGORIAN
METHOD:PUBLISH
X-WR-CALNAME:Cabaret Les Insolites
X-ORIGINAL-URL:https://www.les-insolites.fr
X-WR-CALDESC:évènements pour Cabaret Les Insolites
BEGIN:VTIMEZONE
TZID:Europe/Paris
BEGIN:DAYLIGHT
TZOFFSETFROM:+0100
TZOFFSETTO:+0200
TZNAME:CEST
DTSTART:20240331T010000
END:DAYLIGHT
BEGIN:STANDARD
TZOFFSETFROM:+0200
TZOFFSETTO:+0100
TZNAME:CET
DTSTART:20241027T010000
END:STANDARD
END:VTIMEZONE
BEGIN:VEVENT
DTSTART;TZID=Europe/Paris:20241115T203000
DTEND;TZID=Europe/Paris:20241117T160000
DTSTAMP:20260422T140539
CREATED:20240216T095836Z
LAST-MODIFIED:20241117T115757Z
UID:29085-1731702600-1731859200@www.les-insolites.fr
SUMMARY:FESTIVAL du RIRE de GRAVELINES 2024
DESCRIPTION:La ville de Gravelines  accueille la 20ème édition du Festival du Rire à la scène Vauban\, organisé par les Organisations Insolites. Pour cette année\, l’événement présente deux grands noms de l’humour. Tout d’abord\, Olivier LEJEUNE ouvrira le festival avec son spectacle déjanté\, corrosif et tendre à la fois « Et c’est tellement vrai! ». Ensuite\, Jeanfi JANSSENS présentera son nouveau spectacle intitulé “Tombé du ciel”. Et enfin\, Emmanuel VALLOY clôturera le festival avec sa toute nouvelle comédie  “Au frais de la Princesse”. Ces trois artistes offriront des moments de rire inoubliables pour les spectateurs. Ne manquez pas ce festival qui promet d’être rempli de bonne humeur !\nLe PASS 3 spectacles \,au prix défiant toute concurrence\, de 39€ au lieu de 59€!\nLe vendredi 15 Novembre 2024 à 20H30 : Olivier LEJEUNE avec son spectacle « Et c’est tellement vrai! » –   19€ \nSur scène\, Olivier Lejeune dit tout haut ce que tout le monde pense tout bas. Il gratte où ça fait très mal en décochant ses flèches contre tout ce qui bouge : politiciens\, stars du show-biz\, faits de société… bref\, tout ce dont les médias parlent ! \nSon show est construit sous la forme d’un abécédaire de A à Z entrecoupé de sketches comédie ainsi qu’un étonnant numéro de mémoire (plusieurs fois montré à la télévision) où le public participe. Un humour féroce et corrosif garanti sans temps mort. \n \n\nLe samedi 16 Novembre 2024 à 20H30 : Jeanfi JANSSENS avec son spectacle « Tombé du ciel » – 30€\n“Tombé du ciel” fait  référence à sa reconversion de steward en humoriste\, lorsqu’il saute du monde de l’aérien dans le monde du show business. Enfin\, “Tombé du ciel” révèle son attachement à la religion\, aux croyances et aux superstitions. \nTrois ans après Jeanfi “Décolle”\, Jeanfi change de décor avec un tout nouveau spectacle et nous parle de son entrée dans le monde du show business (le choc des cultures\, des deux mondes)\, ce que la notoriété a changé pour lui ses dernières années mais pas que. Il aborde avec tendresse ses amours contrariées\, son éducation chez les bonnes sœurs\, ses achats compulsifs\, son attachement excessif à sa mère et… à sa chatte Duchesse… le temps qui passe et les habitudes du quotidien d’un “quinqua” qui le font parfois passer pour un “vieux con”. \nCe spectacle surprendra à coup sûr en explorant la part plus poétique de l’humoriste\, tout en conservant ce qu’il sait excellemment interpréter le registre comique… Durée du spectacle : 1 h20 \n \n\n  \nLe dimanche 17 Novembre 2024 à 16H : La nouvelle comédie d’Emmanuel VALLOY « Au frais de la Princesse » – 10€\n » Lorsque le Maire du village confond un cambrioleur avec l’arrivée du nouveau prêtre de la Paroisse\, ce dernier n’a le choix que d’endosser la soutane. Grâce à ce subterfuge\, il va vivre « Au frais de la Princesse »! » \nDeux heures de rires garantis! \n \n 
URL:https://www.les-insolites.fr/evenement/festival-du-rire-de-gravelines-2024/
LOCATION:Scène Vauban Gravelines\, SITE DE L'ARSENAL - PLACE ALBERT DENVERS\, GRAVELINES\, 59820\, France
CATEGORIES:BILLETTERIE,Humour,production,tout public
ATTACH;FMTTYPE=image/jpeg:https://www.les-insolites.fr/wp-content/uploads/2024/02/FESTIVAL-RIRE-GRAVELINES-2024-4.jpg
END:VEVENT
END:VCALENDAR