BEGIN:VCALENDAR
VERSION:2.0
PRODID:-//Cabaret Les Insolites - ECPv5.11.0//NONSGML v1.0//EN
CALSCALE:GREGORIAN
METHOD:PUBLISH
X-WR-CALNAME:Cabaret Les Insolites
X-ORIGINAL-URL:https://www.les-insolites.fr
X-WR-CALDESC:évènements pour Cabaret Les Insolites
BEGIN:VTIMEZONE
TZID:Europe/Paris
BEGIN:DAYLIGHT
TZOFFSETFROM:+0100
TZOFFSETTO:+0200
TZNAME:CEST
DTSTART:20250330T010000
END:DAYLIGHT
BEGIN:STANDARD
TZOFFSETFROM:+0200
TZOFFSETTO:+0100
TZNAME:CET
DTSTART:20251026T010000
END:STANDARD
END:VTIMEZONE
BEGIN:VEVENT
DTSTART;VALUE=DATE:20250523
DTEND;VALUE=DATE:20250610
DTSTAMP:20260420T140936
CREATED:20250327T094028Z
LAST-MODIFIED:20250601T085130Z
UID:37141-1747958400-1749513599@www.les-insolites.fr
SUMMARY:FESTIVAL ST GEORGES EN FOLIE
DESCRIPTION:Nous avons le plaisir de vous annoncer le retour tant attendu du Festival St Georges en Folie\, qui se déroulera du 23 mai au 9 juin 2025 dans notre charmant village. Cet événement promet d’être une célébration inoubliable de l’art et du rire !\nCette année\, nous vous invitons à vivre une expérience unique avec notre spectacle déambulatoire intitulé « Retour vers la friture ». Préparez-vous à plonger dans un univers ludique et décalé\, où l’humour et la créativité se rencontrent pour le plus grand plaisir de tous. En présence des talentueux Bauderche\, ce spectacle vous fera voyager à travers des scènes hilarantes et des personnages attachants qui vous feront rire aux éclats. \nNe manquez pas cet événement exceptionnel qui mettra à l’honneur la joie\, le partage et la convivialité. Réservez dès maintenant vos dates et préparez-vous à vivre des moments mémorables lors du Festival St George en Folie ! \nNous avons hâte de vous accueillir et de célébrer ensemble cette fête dédiée à la bonne humeur et à la créativité. À très bientôt dans notre village ! \n🌟 **Festival St George en Folie 2025 : Rires et émerveillement garantis !** 🌟 \nRESTAURATION SUR PLACE\n8€ la place – gratuit pour les moins de 10 ans ! \nFestivités organisées par le comité des fêtes de la commune de St Georges sur l’Aa et le Théâtre Les Insolites
URL:https://www.les-insolites.fr/evenement/festival-st-georges-en-folie/
LOCATION:Saint Georges sur l’Aa\, place de la mairie\, SAINT GEORGES SUR L AA\, 59820\, France
CATEGORIES:Humour,pièce de théâtre,production,tout public
ATTACH;FMTTYPE=image/jpeg:https://www.les-insolites.fr/wp-content/uploads/2025/03/cluedo-2025-3.jpg
END:VEVENT
BEGIN:VEVENT
DTSTART;TZID=Europe/Paris:20250524T193000
DTEND;TZID=Europe/Paris:20250524T193000
DTSTAMP:20260420T140936
CREATED:20250412T132534Z
LAST-MODIFIED:20250625T074921Z
UID:37550-1748115000-1748115000@www.les-insolites.fr
SUMMARY:Soirée "NUITS DE FOLIE'S"
DESCRIPTION:🌟 SPECTACLE ÉVÉNEMENT – SPÉCIAL FÊTE DES MÈRES 🌟📅 Samedi 24 mai à 19h30📍 Théâtre Les Insolites\nÀ l’occasion de la Fête des Mères\, le Théâtre Les Insolites vous invite à vivre une soirée exceptionnelle sous le signe de la musique et de la nostalgie !\n🎤 Les Tubes de Nos Années – En live avec Claire et Sacha 🎶 et accompagnés par KAREN\nPréparez-vous à replonger dans le tourbillon des années cultes ! Claire\, la voix solaire du groupe mythique L5\, et Sacha\, moitié emblématique du duo légendaire Début de Soirée\, unissent leurs voix et leur énergie pour une tournée événement : « Les Tubes de Nos Années ».\nSur scène\, ils réveillent les souvenirs les plus vibrants de toute une génération. De « Toutes les femmes de ta vie » à « Nuit de folie »\, en passant par les plus grands hits pop et dance des années 80 à 2000\, c’est un véritable voyage musical\, festif et émouvant\, que vous allez vivre en live.\nDes refrains que tout le monde connaît par cœur\, des chorégraphies qui donnent envie de danser\, et une ambiance résolument « feel good » : Claire et Sacha nous offrent un show généreux\, entre confidences\, tubes incontournables et communion avec le public.\n✨ Une soirée unique\, entre fête\, nostalgie et énergie pop. Parce que les chansons qui ont marqué nos vies méritent d’être chantées encore… et plus fort que jamais !\n🎁 Une soirée idéale à offrir (ou s’offrir) pour célébrer les mamans\n🎟️ Réservations conseillées – les places partent vite !\nMENU \nCocktail de bienvenue \nBouchée d’écrevisses \nPavé de bœuf aux poivres et son accompagnement \nDessert-café-boissons comprises  (1/2bouteille vin ou soft ) \n \n  \n 
URL:https://www.les-insolites.fr/evenement/soiree-stars-en-scene/
LOCATION:Cabaret Les Insolites\, 808 route de gravelines\, Saint-Georges-Sur-L'Aa\, 59820\, France
CATEGORIES:Au cabaret,Chanson,tout public
ATTACH;FMTTYPE=image/jpeg:https://www.les-insolites.fr/wp-content/uploads/2025/04/A3-NEUTRE-NUIT-DE-FOLIE-AVEC-CLAIRE-scaled.jpg
ORGANIZER;CN="Emmanuel%20Valloy":MAILTO:contact@les-insolites.fr
END:VEVENT
END:VCALENDAR