BEGIN:VCALENDAR
VERSION:2.0
PRODID:-//Cabaret Les Insolites - ECPv5.11.0//NONSGML v1.0//EN
CALSCALE:GREGORIAN
METHOD:PUBLISH
X-WR-CALNAME:Cabaret Les Insolites
X-ORIGINAL-URL:https://www.les-insolites.fr
X-WR-CALDESC:évènements pour Cabaret Les Insolites
BEGIN:VTIMEZONE
TZID:Europe/Paris
BEGIN:DAYLIGHT
TZOFFSETFROM:+0100
TZOFFSETTO:+0200
TZNAME:CEST
DTSTART:20260329T010000
END:DAYLIGHT
BEGIN:STANDARD
TZOFFSETFROM:+0200
TZOFFSETTO:+0100
TZNAME:CET
DTSTART:20261025T010000
END:STANDARD
END:VTIMEZONE
BEGIN:VEVENT
DTSTART;TZID=Europe/Paris:20261004T123000
DTEND;TZID=Europe/Paris:20261004T123000
DTSTAMP:20260424T133540
CREATED:20260423T155123Z
LAST-MODIFIED:20260423T155123Z
UID:44953-1791117000-1791117000@www.les-insolites.fr
SUMMARY:MICHEL & MICHEL NOUVEAU!
DESCRIPTION:  \nUne nouveauté à ne surtout pas manquer!\nAccompagné de son grand orchestre\, Emmanuel Valloy rend hommage aux incontournables “Michel” de la chanson française.\nDe Michel Polnareff à Michel Sardou\, en passant par Michel Delpech\, Michel Fugain et Michel Jonasz\, il revisite leurs plus grands succès dans un show puissant\, festif et plein d’émotion.\nUn spectacle live\, généreux et entraînant\, qui fait vibrer toutes les générations. Réservez vite!\n\n\nMENU \n\n\nCocktail de bienvenue \n\n\nBouchée de chez Poupart \n\n\nPaupiette à la provençale et son accompagnement \n\n\nPour devenir ADHERENT de notre cabaret et bénéficier de réduction à chaque repas spectacle\, contactez-nous au 03.28.23.08.81 \nEnvie de faire un cadeau à vos proches? Tout est possible! \nIl vous suffit de rajouter dans votre panier la carte cadeau (dédiée à ce repas spectacle). Celle-ci est gratuite\, vous ne payez que les frais de port! Vous la recevrez dans votre boîte aux lettres!\nSi vous préférez la retirer au cabaret\, passez chez nous avec votre commande\, elle vous sera remise gratuitement! 
URL:https://www.les-insolites.fr/evenement/michel-michel-nouveau/
LOCATION:Cabaret Les Insolites\, 808 route de gravelines\, Saint-Georges-Sur-L'Aa\, 59820\, France
CATEGORIES:Au cabaret,Dansant,tout public
ATTACH;FMTTYPE=image/jpeg:https://www.les-insolites.fr/wp-content/uploads/2026/04/MM.jpg
ORGANIZER;CN="Emmanuel%20Valloy":MAILTO:contact@les-insolites.fr
END:VEVENT
END:VCALENDAR